BEGIN:VCALENDAR
VERSION:2.0
PRODID:-//Kinesiologie Anja Planken - ECPv6.15.11//NONSGML v1.0//EN
CALSCALE:GREGORIAN
METHOD:PUBLISH
X-ORIGINAL-URL:https://www.planken-kinesiologie.de
X-WR-CALDESC:Veranstaltungen für Kinesiologie Anja Planken
REFRESH-INTERVAL;VALUE=DURATION:PT1H
X-Robots-Tag:noindex
X-PUBLISHED-TTL:PT1H
BEGIN:VTIMEZONE
TZID:Europe/Paris
BEGIN:DAYLIGHT
TZOFFSETFROM:+0100
TZOFFSETTO:+0200
TZNAME:CEST
DTSTART:20250330T010000
END:DAYLIGHT
BEGIN:STANDARD
TZOFFSETFROM:+0200
TZOFFSETTO:+0100
TZNAME:CET
DTSTART:20251026T010000
END:STANDARD
BEGIN:DAYLIGHT
TZOFFSETFROM:+0100
TZOFFSETTO:+0200
TZNAME:CEST
DTSTART:20260329T010000
END:DAYLIGHT
BEGIN:STANDARD
TZOFFSETFROM:+0200
TZOFFSETTO:+0100
TZNAME:CET
DTSTART:20261025T010000
END:STANDARD
BEGIN:DAYLIGHT
TZOFFSETFROM:+0100
TZOFFSETTO:+0200
TZNAME:CEST
DTSTART:20270328T010000
END:DAYLIGHT
BEGIN:STANDARD
TZOFFSETFROM:+0200
TZOFFSETTO:+0100
TZNAME:CET
DTSTART:20271031T010000
END:STANDARD
END:VTIMEZONE
BEGIN:VEVENT
DTSTART;TZID=Europe/Paris:20261027T173000
DTEND;TZID=Europe/Paris:20261110T200000
DTSTAMP:20260424T203838
CREATED:20240930T073534Z
LAST-MODIFIED:20251019T170426Z
UID:3709-1793122200-1794340800@www.planken-kinesiologie.de
SUMMARY:Sprache und Handgeschicklichkeit - online
DESCRIPTION:Kurszeiten: 27.10.\, 3. und 10.11. je von 17.30 – 20 Uhr \nSprechen und  die Hände zu gebrauchen\, sind komplexe Prozesse. Viele dieser Fähigkeiten werden in der frühen Kindheit angelegt bzw. ausgebildet. \nUm sprechen zu können\, müssen sich im Gehirn viele Vernetzungen bilden. Neueste Erkenntnisse der Neurowissenschaften belegen\, dass es Netzwerke im Gehirn gibt zum Beispiel für die Syntax von Sätzen\, den Sprachrhythmus\, für den Zugriff auf das „innere Wörterbuch“\, für die Betonung und auch dafür\, dass man Wörter so nutzt\, wie sie gemeint sind. Das bedeutet: um gut mit Sprache umzugehen\, braucht es immense Abstimmungen im Gehirn! Gleiches gilt für den Gebrauch der Hände\, die Gegenstellung der Finger\, das Halten eines Stiftes / Werkzeugs\, kreatives Handwerk\, das Schreiben eines Aufsatzes… \nDieser Kurs zeigt dir\, wie du Sprache und Handgeschick mit einfachen Mitteln unterstützen kannst. Wir arbeiten mit Gehirngymnastik (Brain-Gym) und weiteren Methoden der Entwicklungskinesiologie. Außerdem lernen wir sehr nützliche Modelle des Gehirns kennen\, die du bei der Förderung von Sprache und Handgeschick nutzen kannst. Kurze Balancen geben dir das Rüstzeug\, es gleich in der Praxis anzuwenden! \nInhalte:\n– Lateralität (Links-rechts-Verknüpfung des Gehirns)\n– die Dominanz und Funktionsaufteilung als Voraussetzungen für das Lernen\n– Linkshändigkeit\n– Wie sich die Feinmotorik entwickelt und man sie im Alltag spielerisch fördert\n– Das Wachsen der Sprache und der Stimme\n– Lesenlernen und Leseförderung\n– Kurzbalancen zur Lateralität\, Handgeschicklichkeit\, Schreiben\, Sprechen\, Stimme und Lesen \nAnmeldung über die Akademie Corpus et Anima
URL:https://www.planken-kinesiologie.de/event/sprache-und-handgeschicklichkeit/
LOCATION:Online –  „Zoom – Chatroom“
CATEGORIES:Einführende Veranstaltungen,Entwicklungskinesiologie,Für Eltern,online
END:VEVENT
BEGIN:VEVENT
DTSTART;VALUE=DATE:20261109
DTEND;VALUE=DATE:20261215
DTSTAMP:20260424T203838
CREATED:20200123T130834Z
LAST-MODIFIED:20251019T171119Z
UID:2110-1794182400-1797292799@www.planken-kinesiologie.de
SUMMARY:Brain-Gym 104 - 26 Übungen für ein integriertes Gehirn - online
DESCRIPTION:Kurszeiten: 9.\, 23.\,30.11.\, 7. und 14. 12. 26 je von 17-20 Uhr \n\nIn diesem Kurs erlernst du die Grundsätze und Konzepte des Brain Gym®\, sowie alle 26 Übungen\, die das Lernen mit dem gesamten Gehirn unterstützen. Die Zusammenarbeit der beiden Gehirnhälften\, beider Ohren\, Augen\, Hände und Füße wird unterstützt. Dadurch ist es möglich\, Konzentration\, Selbstwahrnehmung und Koordination zu fördern und Sicherheit und Gelassenheit in schwierigen Situationen zu erlangen. \nIm Kurs werden alle 26 Brain Gym® Übungen intensiv vermittelt und Impulse für die praktische Umsetzung und Anwendung gegeben. Da sich die Übungen mühelos mit viel Spaß und Bewegung in den schulischen\, beruflichen und persönlichen Alltag integrieren lassen\, steht die Hilfe zur Selbsthilfe stark im Mittelpunkt. Hierbei wird ohne Muskeltest gearbeitet\, sodass sich das erlernte Wissen auch gut für die Arbeit in der Schule und mit Gruppen eignet. \nDer Kurs findet als Online-Fortsetzungskurs statt. Damit gehören die 26 Brain-Gym-Übungen für ca. 3 Wochen zu Deinem Alltag ;-). So erhältst du über einen langen Zeitraum Impulse für die Umsetzung\, kannst Erfahrungen sammeln und austauschen. Es bleibt Zeit für Wiederholung und Festigung. Gern steht die Dozentin auch zwischendurch per Mail für Rückfragen zur speziellen Anwendung zur Verfügung. \nBrainGym® 104 richtet sich an alle Pädagogen\, Eltern\, Lernberater\, Dozenten\, Coaches\, Ergotherapeuten\, Logopäden\, Heilpraktiker und Lerninteressierte. Außerdem ist der Kurs geeignet\, die Kinesiologie kennenzulernen und das Gelernte sofort anzuwenden. \n\nFür den Kurs brauchst du das Buch „Brain Gym – Das Handbuch“ . Bitte erwirb dieses vor Kursbeginn\, so dass du dann damit arbeiten kannst. (ISBN 978-3-86731-071-0) \nInhalte: \n\n26 Bewegungsübungen und Varianten\nDie “26” und die physischen Voraussetzungen des Lernens\nDie “26” und ihre Verbindung zu den 3 Dimensionen des Lernens\nLernen im eigenen Tempo – das PACE\nDas Modell des inneren Lernens\nLernfluss – integriertes und nicht integriertes Lernen\n5 Prinzipien des Lernens mit Bewegung\n\nMit dem Seminar erhalten alle Menschen ein klares\, einfaches Rüstzeug für den Alltag\, Freizeit\, Lernen\, Schule\, Beruf. Besonders angesprochen sind auch diejenigen\, die mit Kindern leben und arbeiten. \nHinweis: Im Seminar “Brain-Gym – 26 Übungen für ein integriertes Gehirn” arbeiten wir ohne Muskeltest\, aber mit viel Eigenwahrnehmung. \n–> ausführliche Informationen zum Seminar “Brain-Gym ®” – 26 Bewegungsübungen \nAnmeldung über die Akademie Corpus et Anima
URL:https://www.planken-kinesiologie.de/event/brain-gym-26-bewegungsuebungen-2/
LOCATION:Online –  „Zoom – Chatroom“
CATEGORIES:Brain Gym,Brain-Gym 26,Einführende Veranstaltungen,Fortbildung für BG,online
END:VEVENT
BEGIN:VEVENT
DTSTART;TZID=Europe/Paris:20261117T150000
DTEND;TZID=Europe/Paris:20261117T200000
DTSTAMP:20260424T203838
CREATED:20241226T092011Z
LAST-MODIFIED:20251019T171205Z
UID:3733-1794927600-1794945600@www.planken-kinesiologie.de
SUMMARY:Workshop Muskeltesten
DESCRIPTION:Muskeltesten – wie geht das? Was steckt dahinter? Und vor allem: wie kannst du es in deinem Alltag (beruflich /privat) anwenden? \nDer Workshop Muskeltesten führt dich in die Technik des kinesiologischen Muskeltests ein. Gleich im Kurs wendest du es anhand des Testens von Nahrungsmitteln an. Zudem erlernst du eine Testroutine\, dich dich im Alltag in Balance bringt und auch Nahrungsmitteltests effektiver macht. \nDer Selbstmuskeltest wird unterrichtet\, und gezeigt\, wie man mit eigenen Babies / Kleinkindern über den Selbstmuskeltest arbeiten kann. \nDer Kurs hat einen hohen Praxisanteil. Er ist ideal für alle\, die das Muskeltesten kennen lernen und ausprobieren möchten. Ebenso geeignet für die Anwendung in der therapeutischen Praxis. \n\nInhalte:\nTheorie & Hintergründe des Muskeltestens\nMöglichkeiten und Grenzen des Muskeltestens\nErlernen des Muskeltests in der Praxis\nVorübungen für einen klaren Muskeltest\nTesten von Nahrungsmitteln\nTesten der Thymusenergie\nTesten der Augen- und Ohrenenergie\nEinführung in das Selbstmuskeltesten.\nMuskeltesten mit Babies und Kleinkindern \nBitte bringe zum Kurs die Nahrungsmittel mit\, die du gern austesten möchtest. \nAnmeldung über die Akademie Corpus et Anima
URL:https://www.planken-kinesiologie.de/event/workshop-muskeltesten-4/
LOCATION:Corpus et Anima Limbach-Oberfrohna\, Chemnitzer Straße 19\, Limbach-Oberfrohna\, Sachsen\, 09212\, Germany
CATEGORIES:Einführende Veranstaltungen
END:VEVENT
BEGIN:VEVENT
DTSTART;VALUE=DATE:20261118
DTEND;VALUE=DATE:20261122
DTSTAMP:20260424T203838
CREATED:20250711T100627Z
LAST-MODIFIED:20260110T183444Z
UID:3843-1794960000-1795305599@www.planken-kinesiologie.de
SUMMARY:Special: Die frühkindliche Mutterbeziehung
DESCRIPTION:Das Leben ausrichten auf die Beziehung zu sich selbst.\nDie wichtigste Beziehung\, die wir im Leben haben\, ist die zu uns selbst. Bin ich mit mir im reinen\, fühle ich mich wohl. \nDie Beziehung zu sich selbst definiert sich wesentlich durch die frühkindliche Mutterbeziehung – unsere allererste Beziehung im Leben. \nIn diesem Special widmen wir uns sanft den ersten Bindungserfahrungen. Die reichen zurück in die eigene Zeit im Mutterleib und zur Geburt sowie zu den ersten Lebensmonaten. \nZu diesem frühen Zeitpunkt lernt das Nervensystem sehr schnell und intensiv. So werden Aspekte der frühen Mutterbeziehung sehr tief in dir gespeichert\, und sind Maßstab für dein Lebensgefühl und auch für alle weiteren Beziehungen. \nWir starten im Special mit der eigenen Zeit im Mutterleib. \nKinesiologische Erfahrungen zeigen\, dass man als Embryo schon da „wahrnimmt“ – lange bevor das Gehirn es verarbeiten kann. Bevor wir geboren werden\, haben wir schon wichtige Bindungserfahrungen gemacht! \nEbenso großen Einfluss auf unser Beziehungsempfinden haben die Geburt und die Mechanismen des Bondings sowie des Sehnsuchtsreflexes. \nÜber Wahrnehmung und Muskeltest nähern wir uns diesen sensiblen Phasen an. Damit machen wir den Weg frei\, mehr Geborgenheit\, Sicherheit\, Entspannung im Leben zu empfinden. \nDas Special ist für dich\, wenn du… \n– die Beziehung zu dir selbst stärken möchtest\n– ein neues Lebensgefühl entwickeln möchtest\n– die Beziehung zur leiblichen Mutter anschauen möchtest (auch für Adoptiv- und Pflegekinder!)\n– die Beziehung zu deinen Kindern intensivieren möchtest\n– deine weiteren gegenwärtigen Beziehungen verbessern möchtest\n– mehr Kraft für dein Leben entwickeln möchtest\n– generell mehr Geborgenheit\, Sicherheit\, Entspannung suchst. \n–> Das Special unterstützt dich in deiner Arbeit als Kinesiologe*in in Bezug auf Beziehungs- und Mutterthemen. \n************************************************************************************** \nEnthalten sind die folgenden Workshops und Zertifikate der Entwicklungskinesiologie : \n– Schwangerschaft – das innere Wachstum\n– Frühkindliche Beziehungsreflexe: Verbundenheit und Depression\n– Geburt – Mut zur Veränderung\n– Frühkindliche Beziehungsreflexe: Sehnsucht und Burnout \n*************************************************************************************** \nVoraussetzung für das Special ist der Muskeltest. Der kann z.B. im Muskeltest-Workshop am 17. November 2026 erlernt werden. \nAnmeldung über die Akademie Corpus et Anima
URL:https://www.planken-kinesiologie.de/event/die-fruehkindliche-mutterbeziehung/
LOCATION:Corpus et Anima Limbach-Oberfrohna\, Chemnitzer Straße 19\, Limbach-Oberfrohna\, Sachsen\, 09212\, Germany
CATEGORIES:Einführende Veranstaltungen,Entwicklungskinesiologie,Fortbildung für BG,Für Eltern
END:VEVENT
BEGIN:VEVENT
DTSTART;VALUE=DATE:20261124
DTEND;VALUE=DATE:20261127
DTSTAMP:20260424T203838
CREATED:20241226T155805Z
LAST-MODIFIED:20251019T171755Z
UID:3747-1795478400-1795737599@www.planken-kinesiologie.de
SUMMARY:Touch for Health Refresher
DESCRIPTION:In deiner Kinesiologiepraxis kommst du an Touch for Health nicht vorbei. Touch for Health gibt dir auf körperlicher Ebene die Tiefe\, um Themen deiner Klienten wirkungsvoll unterstützen zu können. \nNur… Bei dir schlummert Touch for Health immer noch in der Schublade? Und du kommst nicht wirklich ins Tun? Dann schau dir unbedingt den Refresher-Kurs an! \nAn 3 Tagen machen wir dich fit\, damit du Touch for Health professionell und mit Leichtigkeit anwenden kannst. \nDu wirst tun\, tun\, tun… Betrachte es als ein Trainingscamp für: \n– die 42 Muskeltests\n– die Einpunktbalance\n– Akupressur\n– reaktive Muskeln\n– intuitives Muskeltesten\n– kleinere strukturelle Balance (Rücken\, Nacken\, Knie…)\n– den fachübergreifenden Einsatz von Touch for Health\, zum Beispiel in Bezug auf emotionale Themen\n-…und das\, was du dir wünschst. \nÜbrigens: beim TfH Refresher gibt es uns\, Anett und Anja\, im Doppelpack. Wir haben an unterschiedlichen Schulen gelernt und bieten daher ein recht breites Spektrum an Kinesiologiewissen. Touch ist in unser beider Praxen sehr präsent. Zapft uns daher gern an;-) \nPS.: Der Körper ist die letzte Instanz. Der Körper hat immer eine Antwort\, die dich bzw. deinen Klienten weiter bringt. Mit professioneller Anwendung von Touch eröffnet du dieses Feld! \nVoraussetzung: Touch for Health 3 \nAnmeldung über die Akademie Corpus et Anima
URL:https://www.planken-kinesiologie.de/event/touch-for-health-refresher/
LOCATION:Corpus et Anima Limbach-Oberfrohna\, Chemnitzer Straße 19\, Limbach-Oberfrohna\, Sachsen\, 09212\, Germany
CATEGORIES:Touch for Health
END:VEVENT
BEGIN:VEVENT
DTSTART;VALUE=DATE:20261203
DTEND;VALUE=DATE:20261205
DTSTAMP:20260424T203838
CREATED:20220306T115623Z
LAST-MODIFIED:20251019T172029Z
UID:2869-1796256000-1796428799@www.planken-kinesiologie.de
SUMMARY:Touch for Health 4
DESCRIPTION:Mit dem Touch for Health-System gewinnen Sie einen umfassenden Einstieg in die vielen Möglichkeiten kinesiologischer weiterführender Ausbildungen. Es wird nach dem Curriculum des Internationalen Kinesiologie Colleges (IKC) unterrichtet und zertifiziert. \nTouch IV\nWeitere Korrekturmöglichkeiten aus den Bereichen von Akupunktur u. Reflexzonen\, werden geübt. Es erfolgt die Anwendung und Integration der bisherigen TfH- Inhalte. \n\nInhalte:\n5- Elemente- Emotionsbalance\nTheorie der Akupressurpunkte\nWirbelsäulen- Reflexpunkte\n42 Muskeln im Stehen\n5 – Elemente- Balance mit Nahrungsmitteln \nAnmeldung über die Akademie Corpus et Anima
URL:https://www.planken-kinesiologie.de/event/touch-for-health-4-3/
LOCATION:Corpus et Anima Limbach-Oberfrohna\, Chemnitzer Straße 19\, Limbach-Oberfrohna\, Sachsen\, 09212\, Germany
CATEGORIES:Touch for Health
END:VEVENT
BEGIN:VEVENT
DTSTART;VALUE=DATE:20261210
DTEND;VALUE=DATE:20261213
DTSTAMP:20260424T203838
CREATED:20200312T131710Z
LAST-MODIFIED:20251019T172154Z
UID:2240-1796860800-1797119999@www.planken-kinesiologie.de
SUMMARY:Integration der frühkindlichen Reflexe und Reaktionen
DESCRIPTION:Kurszeiten: 10-18/9-18/9-16 Uhr \nDie Arbeit mit frühkindlichen Reflexen ist in der kinesiologischen Lernpraxis ein notwendiges Handwerkszeug. Von Eltern\, die mit ihren Kindern zur Balance kommen\, wird die Reflexintegration zunehmend direkt nachgefragt. \nDie kinesiologische Methode der Reflexintegration eröffnet dir neue phantastische Möglichkeiten\, um Lernschwierigkeiten besser zu erkennen und zuzuordnen. Gleichzeitig setzt du direkt „am Ursprung“ an\, um das Nervensystem bei der Integration frühkindlicher Reflexe zu unterstützen. \nIn den Kursen verbindest du das Lernmodell des Brain-Gym ® mit der Reflexarbeit. Damit erkennst du detaillierter\, welche konkrete Hilfe dein Klient benötigt\, um den Reflex zu verarbeiten und dann „ablegen“ zu können. Gleichzeitig beziehst du den Körper\, die verbundenen Emotionen und auch die mentale Seite jeden Reflexes ein. Mit diesem ganzheitlichen Blick balancierst du Reflexe individuell und nachhaltig. \n>>Video: Die Beweglichkeit erhalten – frühkindliche Reflexe im Erwachsenenalter \n–>Wie beeinflussen frühkindliche Reflexe unser Leben als Erwachsene? \nInhalte: \n\n20 Reflexe und Reaktionen als Basis der Entwicklung\nPrimäre Reflexmuster als Ressource\nReflexe und die motorische Entwicklung\nEinfluss der Reflexe auf Emotionen und Lernen\nSchutz- und Greifreflexe\nHaltungsreflexe\nBewegungsreflexe\nWeitere Reflexe und Reaktionen\n5 Wege\, Reflexe zu balancieren\nVollständige Reflexbalance\n\nVoraussetzung: Brain-Gym 2 \nDas Seminar gehört zur Entwicklungskinesiologie. Begründerinnen: Renate Wennekes und Angelika Stiller. \nAnmeldung über die Akademie Corpus et Anima
URL:https://www.planken-kinesiologie.de/event/integration-der-fruehkindlichen-balance/
LOCATION:Corpus et Anima Limbach-Oberfrohna\, Chemnitzer Straße 19\, Limbach-Oberfrohna\, Sachsen\, 09212\, Germany
CATEGORIES:Entwicklungskinesiologie,Fortbildung für BG
END:VEVENT
END:VCALENDAR